Workbook

Sheet 1. 예산규모
A2: 1. 2017년 예산규모
E4: (단위 : 천원)
A5: 구분 | B5: 2016년 당초예산(A) | C5: 2017년 예산(B) | D5: 증감액(B-A) | E5: 비율(B-A)/A
A6: 총 계 | B6: 6708740135 | C6: 7199656007 | D6: 490915872 | E6: =D6/B6 -> 0.073175568
A7: 자치단체 | B7: 4190339640 | C7: 4323585821 | D7: 133246181 | E7: =D7/B7 -> 0.03179842
A8: 교육청 | B8: 2060515507 | C8: 2260041690 | D8: 199526183 | E8: =D8/B8 -> 0.096833138
A9: 공사공단 | B9: 245911563 | C9: 387870039 | D9: 141958476 | E9: =D9/B9 -> 0.57727451
A10: 출연출자기관 | B10: 211973425 | C10: 228158457 | D10: 16185032 | E10: =D10/B10 -> 0.076354062

Sheet 2. 회계별
A2: 2. 2017년 당초예산[회계별]
K4: (단위 : 천원)
A5: 구 분 | C5: 2016년도 당초예산 | D5: 2017년도 당초예산
D6: 계 | E6: 일반회계 | F6: 기타특별회계 | G6: 교 육 비 특별회계 | H6: 기 금 | I6: 공사 | J6: 출자기관 | K6: 출연기관
A7: 합 계 | C7: =SUBTOTAL(9, C8:C24) -> 6708740135 | D7: =SUBTOTAL(9, D8:D24) -> 7199656007 | E7: =SUBTOTAL(9, E8:E24) -> 3447953074 | F7: =SUBTOTAL(9, F8:F24) -> 420528713 | G7: =SUBTOTAL(9, G8:G24) -> 2260041690 | H7: =SUBTOTAL(9, H8:H24) -> 455104034 | I7: =SUBTOTAL(9, I8:I24) -> 387870039 | J7: =SUBTOTAL(9, J8:J24) -> 1841000 | K7: =SUBTOTAL(9, K8:K24) -> 226317457
A8: 충청북도 | C8: 4190339640 | D8: =SUM(E8:K8) -> 4323585821 | E8: 3447953074 | F8: 420528713 | H8: 455104034
A9: 교 육 청 | C9: 2060515507 | D9: =SUM(E9:K9) -> 2260041690 | G9: 2260041690
A10: 공 사 | B10: 소 계 | C10: =SUBTOTAL(9, C11:C11) -> 245911563 | D10: =SUBTOTAL(9, D11:D11) -> 387870039 | E10: =SUBTOTAL(9, E11:E11) -> 0 | F10: =SUBTOTAL(9, F11:F11) -> 0 | G10: =SUBTOTAL(9, G11:G11) -> 0 | H10: =SUBTOTAL(9, H11:H11) -> 0 | I10: =SUBTOTAL(9, I11:I11) -> 387870039 | J10: =SUBTOTAL(9, J11:J11) -> 0 | K10: =SUBTOTAL(9, K11:K11) -> 0
B11: 충북개발공사 | C11: 245911563 | D11: =SUM(E11:K11) -> 387870039 | I11: 387870039
A12: 출 자 기 관 | B12: 소 계 | C12: =SUBTOTAL(9, C13:C13) -> 674000 | D12: =SUBTOTAL(9, D13:D13) -> 1841000 | E12: =SUBTOTAL(9, E13:E13) -> 0 | F12: =SUBTOTAL(9, F13:F13) -> 0 | G12: =SUBTOTAL(9, G13:G13) -> 0 | H12: =SUBTOTAL(9, H13:H13) -> 0 | I12: =SUBTOTAL(9, I13:I13) -> 0 | J12: =SUBTOTAL(9, J13:J13) -> 1841000 | K12: =SUBTOTAL(9, K13:K13) -> 0
B13: 충주에코폴리스개발㈜ | C13: 674000 | D13: =SUM(E13:K13) -> 1841000 | J13: 1841000
A14: 출 연 기 관 | B14: 소 계 | C14: =SUBTOTAL(9, C15:C24) -> 211299425 | D14: =SUBTOTAL(9, D15:D24) -> 226317457 | E14: =SUBTOTAL(9, E15:E24) -> 0 | F14: =SUBTOTAL(9, F15:F24) -> 0 | G14: =SUBTOTAL(9, G15:G24) -> 0 | H14: =SUBTOTAL(9, H15:H24) -> 0 | I14: =SUBTOTAL(9, I15:I24) -> 0 | J14: =SUBTOTAL(9, J15:J24) -> 0 | K14: =SUBTOTAL(9, K15:K24) -> 226317457
B15: 충북연구원 | C15: 8525267 | D15: =SUM(E15:K15) -> 14989478 | K15: 14989478
B16: 충북인재양성재단 | C16: 12899383 | D16: =SUM(E16:K16) -> 6624151 | K16: 6624151
B17: 충북학사 | C17: 4136889 | D17: =SUM(E17:K17) -> 4209673 | K17: 4209673
B18: 충북신용보증재단 | C18: 27817744 | D18: =SUM(E18:K18) -> 29093394 | K18: 29093394
B19: 충청북도지방기업진흥원 | C19: 15745037 | D19: =SUM(E19:K19) -> 22073096 | K19: 22073096
B20: 충청북도지식산업진흥원 | C20: 11773817 | D20: =SUM(E20:K20) -> 8698222 | K20: 8698222
B21: 충청북도문화재연구원 | C21: 5006163 | D21: =SUM(E21:K21) -> 6006000 | K21: 6006000
B22: 충북문화재단 | C22: 13806789 | D22: =SUM(E22:K22) -> 13431129 | K22: 13431129
B23: 청주의료원 | C23: 64430408 | D23: =SUM(E23:K23) -> 72162489 | K23: 72162489
B24: 충주의료원 | C24: 47157928 | D24: =SUM(E24:K24) -> 49029825 | K24: 49029825

Sheet 3. 세출성질별
A2: 3. 세출 성질별
K4: (단위 : 천원)
A5: 구분 | C5: 합계 | E5: 일반회계 | F5: 기타특별회계 | G5: 기금 | H5: 교육비 특별회계 | I5: 공사 | J5: 출자기관 | K5: 출연기관
D6: 비중
A7: 합 계 | C7: =SUBTOTAL(9, C8:C17) -> 7199656007 | E7: =SUBTOTAL(9, E8:E17) -> 3447953074 | F7: =SUBTOTAL(9, F8:F17) -> 420528713 | G7: =SUBTOTAL(9, G8:G17) -> 455104034 | H7: =SUBTOTAL(9, H8:H17) -> 2260041690 | I7: =SUBTOTAL(9, I8:I17) -> 387870039 | J7: =SUBTOTAL(9, J8:J17) -> 1841000 | K7: =SUBTOTAL(9, K8:K17) -> 226317457
A8: 소 계 | C8: =SUBTOTAL(9, C9:C16) -> 6583627511 | D8: =C8/C$8 -> 1 | E8: =SUBTOTAL(9, E9:E16) -> 3447953074 | F8: =SUBTOTAL(9, F9:F16) -> 420528713 | G8: =SUBTOTAL(9, G9:G16) -> 455104034 | H8: =SUBTOTAL(9, H9:H16) -> 2260041690 | I8: =SUBTOTAL(9, I9:I16) -> 0 | J8: =SUBTOTAL(9, J9:J16) -> 0 | K8: =SUBTOTAL(9, K9:K16) -> 0
B9: 인건비 | C9: =SUM(E9:K9) -> 1480017832 | D9: =C9/C$8 -> 0.22480279 | E9: 126705412 | F9: 94923300 | G9: 0 | H9: 1258389120
B10: 물건비 | C10: =SUM(E10:K10) -> 215810201 | D10: =C10/C$8 -> 0.032779832 | E10: 93241382 | F10: 23620268 | G10: 545388 | H10: 98403163
B11: 경상이전 | C11: =SUM(E11:K11) -> 2610554300 | D11: =C11/C$8 -> 0.39652217 | E11: 1798422218 | F11: 213778187 | G11: 17923910 | H11: 580429985
B12: 자본지출 | C12: =SUM(E12:K12) -> 1230075166 | D12: =C12/C$8 -> 0.18683851 | E12: 950117620 | F12: 51248598 | G12: 6060300 | H12: 222648648
B13: 융자및출자 | C13: =SUM(E13:K13) -> 69687651 | D13: =C13/C$8 -> 0.010584993 | E13: 0 | F13: 11087651 | G13: 58600000 | H13: 0
B14: 보전재원 | C14: =SUM(E14:K14) -> 313181361 | D14: =C14/C$8 -> 0.047569727 | E14: 0 | F14: 0 | G14: 269406683 | H14: 43774678
B15: 내부거래 | C15: =SUM(E15:K15) -> 569258192 | D15: =C15/C$8 -> 0.086465735 | E15: 443323159 | F15: 16907600 | G15: 102557753 | H15: 6469680
B16: 예비비및기타 | C16: =SUM(E16:K16) -> 95042808 | D16: =C16/C$8 -> 0.014436237 | E16: 36143283 | F16: 8963109 | G16: 10000 | H16: 49926416
A17: 공사·출자·출연기관 | C17: =SUM(E17:K17) -> 616028496 | E17: 0 | F17: 0 | G17: 0 | H17: 0 | I17: ='2. 회계별'!D10 -> 387870039 | J17: ='2. 회계별'!D12 -> 1841000 | K17: ='2. 회계별'!D14 -> 226317457

Sheet 4. 세출기능별
A2: 4. 세출 기능별
K4: (단위 : 천원)
A5: 구분 | C5: 합계 | E5: 일반회계 | F5: 기타특별회계 | G5: 기금 | H5: 교육비 특별회계 | I5: 공사 | J5: 출자기관 | K5: 출연기관
D6: 비중
A7: 합 계 | C7: =SUBTOTAL(9, C8:C23) -> 7199656007 | E7: =SUBTOTAL(9, E8:E23) -> 3447953074 | F7: =SUBTOTAL(9, F8:F23) -> 420528713 | G7: =SUBTOTAL(9, G8:G23) -> 455104034 | H7: =SUBTOTAL(9, H8:H23) -> 2260041690 | I7: =SUBTOTAL(9, I8:I23) -> 387870039 | J7: =SUBTOTAL(9, J8:J23) -> 1841000 | K7: =SUBTOTAL(9, K8:K23) -> 226317457
A8: 소 계 | C8: =SUBTOTAL(9, C9:C22) -> 6583627511 | D8: =C8/C$8 -> 1 | E8: =SUBTOTAL(9, E9:E22) -> 3447953074 | F8: =SUBTOTAL(9, F9:F22) -> 420528713 | G8: =SUBTOTAL(9, G9:G22) -> 455104034 | H8: =SUBTOTAL(9, H9:H22) -> 2260041690 | I8: =SUBTOTAL(9, I9:I22) -> 0 | J8: =SUBTOTAL(9, J9:J22) -> 0 | K8: =SUBTOTAL(9, K9:K22) -> 0
B9: 일반공공행정 | C9: =SUM(E9:K9) -> 730464335 | D9: =C9/C$8 -> 0.11095165 | E9: 402053456 | F9: 0 | G9: 328410879 | H9: 0 | I9: 0 | J9: 0 | K9: 0
B10: 공공질서 및 안전 | C10: =SUM(E10:K10) -> 364806537 | D10: =C10/C$8 -> 0.055411175 | E10: 297488126 | F10: 47208266 | G10: 20110145 | H10: 0 | I10: 0 | J10: 0 | K10: 0
B11: 교육 | C11: =SUM(E11:K11) -> 2470332934 | D11: =C11/C$8 -> 0.37522368 | E11: 210291244 | F11: 0 | G11: 0 | H11: ='1. 예산규모'!C8 -> 2260041690 | I11: 0 | J11: 0 | K11: 0
B12: 문화 및 관광 | C12: =SUM(E12:K12) -> 170578289 | D12: =C12/C$8 -> 0.025909468 | E12: 170521437 | F12: 0 | G12: 56852 | H12: 0 | I12: 0 | J12: 0 | K12: 0
B13: 환경보호 | C13: =SUM(E13:K13) -> 220450908 | D13: =C13/C$8 -> 0.033484718 | E13: 208434322 | F13: 0 | G13: 12016586 | H13: 0 | I13: 0 | J13: 0 | K13: 0
B14: 사회복지 | C14: =SUM(E14:K14) -> 1370607470 | D14: =C14/C$8 -> 0.20818424 | E14: 1136929396 | F14: 220598820 | G14: 13079254 | H14: 0 | I14: 0 | J14: 0 | K14: 0
B15: 보건 | C15: =SUM(E15:K15) -> 68364817 | D15: =C15/C$8 -> 0.010384065 | E15: 66768425 | F15: 0 | G15: 1596392 | H15: 0 | I15: 0 | J15: 0 | K15: 0
B16: 농림해양수산 | C16: =SUM(E16:K16) -> 423136711 | D16: =C16/C$8 -> 0.064271059 | E16: 405634146 | F16: 11087651 | G16: 6414914 | H16: 0 | I16: 0 | J16: 0 | K16: 0
B17: 산업 중소기업 | C17: =SUM(E17:K17) -> 184371343 | D17: =C17/C$8 -> 0.028004522 | E17: 110952331 | F17: 0 | G17: 73419012 | H17: 0 | I17: 0 | J17: 0 | K17: 0
B18: 수송 및 교통 | C18: =SUM(E18:K18) -> 131511663 | D18: =C18/C$8 -> 0.019975563 | E18: 124701663 | F18: 6810000 | G18: 0 | H18: 0 | I18: 0 | J18: 0 | K18: 0
B19: 국토 및 지역개발 | C19: =SUM(E19:K19) -> 129493199 | D19: =C19/C$8 -> 0.019668974 | E19: 100076501 | F19: 29416698 | G19: 0 | H19: 0 | I19: 0 | J19: 0 | K19: 0
B20: 과학기술 | C20: =SUM(E20:K20) -> 0 | D20: =C20/C$8 -> 0 | E20: 0 | F20: 0 | G20: 0 | H20: 0 | I20: 0 | J20: 0 | K20: 0
B21: 예비비 | C21: =SUM(E21:K21) -> 35943283 | D21: =C21/C$8 -> 0.0054594952 | E21: 35943283 | F21: 0 | G21: 0 | H21: 0 | I21: 0 | J21: 0 | K21: 0
B22: 기타 | C22: =SUM(E22:K22) -> 283566022 | D22: =C22/C$8 -> 0.043071395 | E22: 178158744 | F22: 105407278 | G22: 0 | H22: 0 | I22: 0 | J22: 0 | K22: 0
A23: 공사·출자·출연기관 | C23: =SUM(E23:K23) -> 616028496 | E23: 0 | F23: 0 | G23: 0 | H23: 0 | I23: ='2. 회계별'!D10 -> 387870039 | J23: ='2. 회계별'!D12 -> 1841000 | K23: ='2. 회계별'!D14 -> 226317457

Sheet 5-가 출자출연 기관별 
A2: 5-가. 출자출연기관별 예산규모
F4: (단위 : 천원)
A5: 구 분 | C5: 2016년 당초예산 (A) | D5: 2017년 예산 (B) | E5: 증감액 (B-A) | F5: 비율 (B/A)
A6: 총 계 | C6: =C9+C11+C7 -> 457884988 | D6: =D9+D11+D7 -> 616028496 | E6: =E9+E11+E7 -> 158143508 | F6: =D6/C6 -> 1.3453782
A7: 공사 | B7: 소계 | C7: =SUBTOTAL(9, C8) -> 245911563 | D7: =SUBTOTAL(9, D8) -> 387870039 | E7: =SUBTOTAL(9, E8) -> 141958476 | F7: =D7/C7 -> 1.5772745
B8: 충북개발공사 | C8: 245911563 | D8: 387870039 | E8: =D8-C8 -> 141958476 | F8: =D8/C8 -> 1.5772745
A9: 출자 기관 | B9: 소계 | C9: =SUBTOTAL(9, C10) -> 674000 | D9: =SUBTOTAL(9, D10) -> 1841000 | E9: =SUBTOTAL(9, E10) -> 1167000 | F9: =SUBTOTAL(9, F10) -> 2.731454
B10: 충주에코폴리스개발㈜ | C10: 674000 | D10: 1841000 | E10: =D10-C10 -> 1167000 | F10: =D10/C10 -> 2.731454
A11: 출연 기관 | B11: 소계 | C11: =SUBTOTAL(9, C12:C21) -> 211299425 | D11: =SUBTOTAL(9, D12:D21) -> 226317457 | E11: =SUBTOTAL(9, E12:E21) -> 15018032 | F11: =D11/C11 -> 1.0710746
B12: 충북연구원 | C12: 8525267 | D12: 14989478 | E12: =D12-C12 -> 6464211 | F12: =D12/C12 -> 1.7582415
B13: 충북인재양성재단 | C13: 12899383 | D13: 6624151 | E13: =D13-C13 -> -6275232 | F13: =D13/C13 -> 0.51352464
B14: 충북학사 | C14: 4136889 | D14: 4209673 | E14: =D14-C14 -> 72784 | F14: =D14/C14 -> 1.0175939
B15: 충북신용보증재단 | C15: 27817744 | D15: 29093394 | E15: =D15-C15 -> 1275650 | F15: =D15/C15 -> 1.0458574
B16: 충청북도지방기업진흥원 | C16: 15745037 | D16: 22073096 | E16: =D16-C16 -> 6328059 | F16: =D16/C16 -> 1.4019082
B17: 충청북도지식산업진흥원 | C17: 11773817 | D17: 8698222 | E17: =D17-C17 -> -3075595 | F17: =D17/C17 -> 0.73877673
B18: 충청북도문화재연구원 | C18: 5006163 | D18: 6006000 | E18: =D18-C18 -> 999837 | F18: =D18/C18 -> 1.1997212
B19: 충북문화재단 | C19: 13806789 | D19: 13431129 | E19: =D19-C19 -> -375660 | F19: =D19/C19 -> 0.97279165
B20: 청주의료원 | C20: 64430408 | D20: 72162489 | E20: =D20-C20 -> 7732081 | F20: =D20/C20 -> 1.1200067
B21: 충주의료원 | C21: 47157928 | D21: 49029825 | E21: =D21-C21 -> 1871897 | F21: =D21/C21 -> 1.0396942

Sheet 5-나 재정현황
A2: 5-나. 출자출연 기관별 재정현황
F4: (단위 : 천원)
A5: 구분 | C5: 2015년 결산기준
C6: 자산(A+B) | D6: 부채(A) | E6: 자본(B) | F6: 자산대비 부채비율
A7: 계 | C7: =SUBTOTAL(9, C8:C23) -> 6777792749 | D7: =SUBTOTAL(9, D8:D23) -> 1190539798 | E7: =SUBTOTAL(9, E8:E23) -> 5587252951 | F7: =D7/C7 -> 0.17565302
A8: 공사 | B8: 소계 | C8: =SUBTOTAL(9, C9) -> 540674043 | D8: =SUBTOTAL(9, D9) -> 346512975 | E8: =SUBTOTAL(9, E9) -> 194161068 | F8: =D8/C8 -> 0.64089072
B9: 충북개발공사 | C9: 540674043 | D9: 346512975 | E9: 194161068 | F9: =D9/C9 -> 0.64089072
A10: 출자 기관 | B10: 소계 | C10: =SUBTOTAL(9, C11) -> 674000 | D10: =SUBTOTAL(9, D11) -> 0 | E10: =SUBTOTAL(9, E11) -> 674000 | F10: =D10/C10 -> 0
B11: 충주에코폴리스개발㈜ | C11: =D11+E11 -> 674000 | E11: 674000 | F11: =D11/C11 -> 0
A12: 출연 기관 | B12: 소계 | C12: =SUBTOTAL(9,C13:C23) -> 6236444706 | D12: =SUBTOTAL(9,D13:D23) -> 844026823 | E12: =SUBTOTAL(9,E13:E23) -> 5392417883 | F12: =D12/C12 -> 0.13533782
B13: 충북연구원 | C13: =D13+E13 -> 12422506 | D13: 1886486 | E13: 10536020 | F13: =D13/C13 -> 0.15186034
B14: 충북인재양성재단 | C14: =D14+E14 -> 76863787 | D14: 12456 | E14: 76851331 | F14: =D14/C14 -> 0.00016205291
B15: 충북학사 | C15: =D15+E15 -> 5675464067 | D15: 766413919 | E15: 4909050148 | F15: =D15/C15 -> 0.13503987
B16: 충북신용보증재단 | C16: =D16+E16 -> 173140246 | D16: 33706519 | E16: 139433727 | F16: =D16/C16 -> 0.19467755
B17: 충청북도지방기업진흥원 | C17: =D17+E17 -> 23951002 | D17: 7668559 | E17: 16282443 | F17: =D17/C17 -> 0.32017696
B18: 충청북도지식산업진흥원 | C18: =D18+E18 -> 25906476 | D18: 2343076 | E18: 23563400 | F18: =D18/C18 -> 0.09044364
B19: 충북테크노파크 | C19: =D19+E19 -> 113370063 | D19: 11768798 | E19: 101601265 | F19: =D19/C19 -> 0.10380869
B20: 충청북도문화재연구원 | C20: =D20+E20 -> 5404835 | D20: 471572 | E20: 4933263 | F20: =D20/C20 -> 0.087250027
B21: 충북문화재단 | C21: =D21+E21 -> 28961480 | D21: 2193968 | E21: 26767512 | F21: =D21/C21 -> 0.075754692
B22: 청주의료원 | C22: =D22+E22 -> 76178256 | D22: 12455687 | E22: 63722569 | F22: =D22/C22 -> 0.16350712
B23: 충주의료원 | C23: =D23+E23 -> 24781988 | D23: 5105783 | E23: 19676205 | F23: =D23/C23 -> 0.20602798

Sheet 5-다 예산현황
A2: 5-다. 출자출연 기관별 예산현황
O4: (단위 : 천원)
A5: 구분 | C5: 2016년 예산 | D5: 2017년 예산
D6: 수입예산 | K6: 지출예산
D7: 소계 | E7: 사업수입 | F7: 지원금 | I7: 외부차입 | J7: 기타수입 | K7: 소계 | L7: 사업비 | M7: 부채상환 | N7: 기타 | O7: 예비비
F8: 국가 지원금 | G8: 지자체 지원금 | H8: 기타 지원금 (공공기관 등)
A9: 계 | C9: =SUBTOTAL(9, C10:C24) -> 457884988 | D9: =SUBTOTAL(9, D10:D24) -> 616028496 | E9: =SUBTOTAL(9, E10:E24) -> 288511938 | F9: =SUBTOTAL(9, F10:F24) -> 19970077 | G9: =SUBTOTAL(9, G10:G24) -> 29240554 | H9: =SUBTOTAL(9, H10:H24) -> 379669 | I9: =SUBTOTAL(9, I10:I24) -> 70125000 | J9: =SUBTOTAL(9, J10:J24) -> 207801258 | ... O9: =SUBTOTAL(9, O10:O24) -> 217754989
A10: 공사 | B10: 소계 | C10: =SUBTOTAL(9,C11:C11) -> 245911563 | D10: =SUBTOTAL(9,D11:D11) -> 387870039 | E10: =SUBTOTAL(9,E11:E11) -> 172933797 | F10: =SUBTOTAL(9,F11:F11) -> 0 | G10: =SUBTOTAL(9,G11:G11) -> 0 | H10: =SUBTOTAL(9,H11:H11) -> 0 | I10: =SUBTOTAL(9,I11:I11) -> 69000000 | J10: =SUBTOTAL(9,J11:J11) -> 145936242 | ... O10: =SUBTOTAL(9,O11:O11) -> 214077187
B11: 충북개발공사 | C11: 245911563 | D11: =SUM(E11:J11) -> 387870039 | E11: 172933797 | F11: 0 | G11: 0 | H11: 0 | I11: 69000000 | J11: 145936242 | K11: =SUM(L11:O11) -> 387870039 | L11: 115343245 | M11: 50000000 | N11: 8449607 | O11: 214077187
A12: 출자 | B12: 소계 | C12: =SUBTOTAL(9,C13:C13) -> 674000 | D12: =SUBTOTAL(9,D13:D13) -> 1841000 | E12: =SUBTOTAL(9,E13:E13) -> 0 | F12: =SUBTOTAL(9,F13:F13) -> 0 | G12: =SUBTOTAL(9,G13:G13) -> 375000 | H12: =SUBTOTAL(9,H13:H13) -> 0 | I12: =SUBTOTAL(9,I13:I13) -> 1125000 | J12: =SUBTOTAL(9,J13:J13) -> 341000 | ... O12: =SUBTOTAL(9,O13:O13) -> 2700
B13: 충주에코폴리스개발㈜ | C13: 674000 | D13: =SUM(E13:J13) -> 1841000 | G13: 375000 | I13: 1125000 | J13: 341000 | K13: =SUM(L13:O13) -> 1841000 | L13: 1741000 | N13: 97300 | O13: 2700
A14: 출연 | B14: 소계 | C14: =SUBTOTAL(9, C15:C24) -> 211299425 | D14: =SUBTOTAL(9, D15:D24) -> 226317457 | E14: =SUBTOTAL(9, E15:E24) -> 115578141 | F14: =SUBTOTAL(9, F15:F24) -> 19970077 | G14: =SUBTOTAL(9, G15:G24) -> 28865554 | H14: =SUBTOTAL(9, H15:H24) -> 379669 | I14: =SUBTOTAL(9, I15:I24) -> 0 | J14: =SUBTOTAL(9, J15:J24) -> 61524016 | ... O14: =SUBTOTAL(9, O15:O24) -> 3675102
B15: 충북연구원 | C15: 8525267 | D15: =SUM(E15:J15) -> 14989478 | E15: 7132478 | F15: 166000 | G15: 7595000 | H15: 0 | I15: 0 | J15: 96000 | K15: =SUM(L15:O15) -> 14989478 | L15: 14686335 | M15: 0 | N15: 0 | O15: 303143
B16: 충북인재양성재단 | C16: 12899383 | D16: =SUM(E16:J16) -> 6624151 | E16: 0 | F16: 0 | G16: 620000 | H16: 0 | I16: 0 | J16: 6004151 | K16: =SUM(L16:O16) -> 6624151 | L16: 1503760 | M16: 0 | N16: 5089973 | O16: 30418
B17: 충북학사 | C17: 4136889 | D17: =SUM(E17:J17) -> 4209673 | E17: 1189528 | G17: 2345000 | J17: 675145 | K17: =SUM(L17:O17) -> 4209673 | L17: 3965916 | N17: 192639 | O17: 51118
B18: 충북신용보증재단 | C18: 27817744 | D18: =SUM(E18:J18) -> 29093394 | E18: 12175294 | F18: 0 | G18: 0 | H18: 0 | I18: 0 | J18: 16918100 | K18: =SUM(L18:O18) -> 29093394 | L18: 9307835 | M18: 0 | N18: 19494625 | O18: 290934
B19: 충청북도지방기업진흥원 | C19: 15745037 | D19: =SUM(E19:J19) -> 22073096 | E19: 1369522 | F19: 5503640 | G19: 4987630 | H19: 20501 | I19: 0 | J19: =609665+9582138 -> 10191803 | K19: =SUM(L19:O19) -> 22073096 | L19: 12460145 | M19: 0 | N19: 7384970 | O19: =2197168+30813 -> 2227981
B20: 충청북도지식산업진흥원 | C20: 11773817 | D20: =SUM(E20:J20) -> 8698222 | E20: 780730 | F20: 4121000 | G20: 2451500 | J20: 1344992 | K20: =SUM(L20:O20) -> 8698222 | L20: 5524960 | N20: 3155542 | O20: 17720
B21: 충청북도문화재연구원 | C21: 5006163 | D21: =SUM(E21:J21) -> 6006000 | E21: 3000000 | G21: 1106000 | J21: 1900000 | K21: =SUM(L21:O21) -> 6006000 | L21: 5232212 | N21: 700000 | O21: 73788
B22: 충북문화재단 | C22: 13806789 | D22: =SUM(E22:J22) -> 13431129 | E22: 0 | F22: =3495110+293000+1658755+1343072 -> 6789937 | G22: =4623984+823040+835000 -> 6282024 | H22: =303000+56168 -> 359168 | I22: 0 | J22: 0 | K22: =SUM(L22:O22) -> 13431129 | L22: 13431129 | M22: 0 | N22: 0 | O22: 0
B23: 청주의료원 | C23: 64430408 | D23: =SUM(E23:J23) -> 72162489 | E23: 54660498 | F23: 3209500 | G23: 3217200 | J23: 11075291 | K23: =SUM(L23:O23) -> 72162489 | L23: 56387385 | M23: 743000 | N23: 14452104 | O23: 580000
B24: 충주의료원 | C24: 47157928 | D24: =SUM(E24:J24) -> 49029825 | E24: 35270091 | F24: 180000 | G24: 261200 | J24: 13318534 | K24: =SUM(L24:O24) -> 49029825 | L24: 38490225 | N24: 10439600 | O24: 100000

Sheet 5-마  성질별
A2: 5-마. 출자출연기관 성질별 예산
L4: (단위 : 천원)
A5: 구분 | B5: 기관명 | C5: 예산액
C6: 합계 | D6: 인건비 | E6: 물건비 | F6: 경상이전 | G6: 자본지출 | H6: 융자금 및 출자 | I6: 보전재원 | J6: 내부거래 | K6: 예비비 | L6: 기타
A7: 합계 | C7: =SUBTOTAL(9, C8:C22) -> 616028496 | D7: =SUBTOTAL(9, D8:D22) -> 68099431 | E7: =SUBTOTAL(9, E8:E22) -> 139276861 | F7: =SUBTOTAL(9, F8:F22) -> 5405097 | G7: =SUBTOTAL(9, G8:G22) -> 98165882 | H7: =SUBTOTAL(9, H8:H22) -> 395990 | I7: =SUBTOTAL(9, I8:I22) -> 50700000 | J7: =SUBTOTAL(9, J8:J22) -> 5131857 | ... L7: =SUBTOTAL(9, L8:L22) -> 31098389
A8: 공사 | B8: 소계 | C8: =SUBTOTAL(9, C9) -> 387870039 | D8: =SUBTOTAL(9, D9) -> 4021102 | E8: =SUBTOTAL(9, E9) -> 69633760 | F8: =SUBTOTAL(9, F9) -> 3938060 | G8: =SUBTOTAL(9, G9) -> 39323033 | H8: =SUBTOTAL(9, H9) -> 395990 | I8: =SUBTOTAL(9, I9) -> 50000000 | J8: =SUBTOTAL(9, J9) -> 0 | ... L8: =SUBTOTAL(9, L9) -> 6480907
B9: 충북개발공사 | C9: =SUM(D9:L9) -> 387870039 | D9: 4021102 | E9: 69633760 | F9: 3938060 | G9: 39323033 | H9: 395990 | I9: 50000000 | J9: 0 | K9: 214077187 | L9: 6480907
A10: 출자 | B10: 소계 | C10: =SUBTOTAL(9, C11) -> 1841000 | D10: =SUBTOTAL(9, D11) -> 52800 | E10: =SUBTOTAL(9, E11) -> 44500 | F10: =SUBTOTAL(9, F11) -> 0 | G10: =SUBTOTAL(9, G11) -> 1741000 | H10: =SUBTOTAL(9, H11) -> 0 | I10: =SUBTOTAL(9, I11) -> 0 | J10: =SUBTOTAL(9, J11) -> 0 | ... L10: =SUBTOTAL(9, L11) -> 0
B11: 충주에코폴리스개발㈜ | C11: =SUM(D11:L11) -> 1841000 | D11: 52800 | E11: 44500 | G11: 1741000 | K11: 2700
A12: 출연 | B12: 소계 | C12: =SUBTOTAL(9, C13:C22) -> 226317457 | D12: =SUBTOTAL(9, D13:D22) -> 64025529 | E12: =SUBTOTAL(9, E13:E22) -> 69598601 | F12: =SUBTOTAL(9, F13:F22) -> 1467037 | G12: =SUBTOTAL(9, G13:G22) -> 57101849 | H12: =SUBTOTAL(9, H13:H22) -> 0 | I12: =SUBTOTAL(9, I13:I22) -> 700000 | J12: =SUBTOTAL(9, J13:J22) -> 5131857 | ... L12: =SUBTOTAL(9, L13:L22) -> 24617482
B13: 충북연구원 | C13: =SUM(D13:L13) -> 14989478 | D13: 2289756 | E13: 12396579 | F13: 0 | G13: 0 | H13: 0 | I13: 0 | J13: 0 | K13: 303143 | L13: 0
B14: 충북인재양성재단 | C14: =SUM(D14:L14) -> 6624151 | D14: 224865 | E14: 185016 | F14: 0 | G14: 0 | H14: 0 | I14: 0 | J14: 0 | K14: 30418 | L14: 6183852
B15: 충북학사 | C15: =SUM(D15:L15) -> 4209673 | D15: 1685821 | E15: 1963227 | F15: 106400 | G15: 78880 | H15: 0 | I15: 0 | J15: 144227 | K15: 51118 | L15: 180000
B16: 충북신용보증재단 | C16: =SUM(D16:L16) -> 29093394 | D16: 2953256 | E16: 1119546 | F16: 176037 | G16: 17749012 | H16: 0 | I16: 0 | J16: 0 | K16: 290934 | L16: 6804609
B17: 충청북도지방기업진흥원 | C17: =SUM(D17:L17) -> 22073096 | D17: 847610 | E17: 1100764 | F17: 0 | G17: 7384970 | H17: 0 | I17: 0 | J17: 4987630 | K17: 2227981 | L17: =10511771-4987630 -> 5524141
B18: 충청북도지식산업진흥원 | C18: =SUM(D18:L18) -> 8698222 | D18: 1416906 | E18: 1031862 | G18: 326774 | K18: 17720 | L18: 5904960
B19: 충청북도문화재연구원 | C19: =SUM(D19:L19) -> 6006000 | D19: 1563860 | E19: 2311532 | F19: 1106000 | G19: 230900 | I19: 700000 | K19: 73788 | L19: 19920
B20: 충북문화재단 | C20: =SUM(D20:L20) -> 13431129 | D20: 844520 | E20: 0 | F20: 0 | G20: 12586609 | H20: 0 | I20: 0 | J20: 0 | K20: 0 | L20: 0
B21: 청주의료원 | C21: =SUM(D21:L21) -> 72162489 | D21: 30748154 | E21: 29860331 | F21: 8900 | G21: 10965104 | K21: 580000
B22: 충주의료원 | C22: =SUM(D22:L22) -> 49029825 | D22: 21450781 | E22: 19629744 | F22: 69700 | G22: 7779600 | K22: 100000

Sheet 5_바 출자출연기관현황
A2: 5-바. 출자출연 기관별 현황
A5: 구분 | B5: 기관명 | C5: 설립일자 | D5: 대표자 | E5: 정원 | H5: 소재지
E6: 계 | F6: 정규직 | G6: 기타
A7: 합계 | E7: =SUBTOTAL(9, E8:E24) -> 1403 | F7: =SUBTOTAL(9, F8:F24) -> 1204 | G7: =SUBTOTAL(9, G8:G24) -> 199
A8: 공사 | B8: 소계 | E8: =SUBTOTAL(9, E9) -> 83 | F8: =SUBTOTAL(9, F9) -> 65 | G8: =SUBTOTAL(9, G9) -> 18
B9: 충북개발공사 | C9: 2016.01.16 | D9: 계용준 | E9: =SUM(F9:G9) -> 83 | F9: 65 | G9: 18 | H9: 청주시
A10: 출자 | B10: 소계 | E10: =SUBTOTAL(9, E11) -> 10 | F10: =SUBTOTAL(9, F11) -> 10 | G10: =SUBTOTAL(9, G11) -> 0
B11: 충주에코폴리스개발㈜ | C11: 2015.04.15 | D11: 김정우 | E11: =SUM(F11:G11) -> 10 | F11: 10 | G11: 0 | H11: 충주시
A12: 출연 | B12: 소계 | E12: =SUBTOTAL(9, E13:E24) -> 1310 | F12: =SUBTOTAL(9, F13:F24) -> 1129 | G12: =SUBTOTAL(9, G13:G24) -> 181
B13: 충북연구원 | C13: 1990.4.23 | D13: 정초시 | E13: =SUM(F13:G13) -> 92 | F13: 32 | G13: 60 | H13: 청주시
B14: 충북인재양성재단 | C14: 2008.2.20 | D14: 이시종 | E14: =SUM(F14:G14) -> 5 | F14: 5 | G14: 0 | H14: 청주시
B15: 충북학사 | C15: 1991.12.27 | D15: 김광중 | E15: =SUM(F15:G15) -> 38 | F15: 20 | G15: 18 | H15: 서울시, 청주시
B16: 충북신용보증재단 | C16: 1999.3.26 | D16: 이인수 | E16: =SUM(F16:G16) -> 51 | F16: 32 | G16: 19 | H16: 청주시
B17: 충청북도지방기업진흥원 | C17: 1997.9.4 | D17: 강호동 | E17: =SUM(F17:G17) -> 25 | F17: 25 | G17: 0 | H17: 청주시
B18: 충청북도지식산업진흥원 | C18: 2003.7.29 | D18: 전원건 | E18: =SUM(F18:G18) -> 32 | F18: 16 | G18: 16 | H18: 청주시
B19: 충북테크노파크 | C19: 2003.12.24 | D19: 김진태 | E19: 115 | F19: 115 | H19: 청주시
B20: 충청북도문화재연구원 | C20: 2005.11.7 | D20: 장준식 | E20: =SUM(F20:G20) -> 30 | F20: 30 | H20: 청주시
B21: 충북문화재단 | C21: 2011.11.30 | D21: 김경식 | E21: =SUM(F21:G21) -> 31 | F21: 12 | G21: 19 | H21: 청주시
B22: 청주의료원 | C22: 1983.7.1 | D22: 손병관 | E22: =SUM(F22:G22) -> 523 | F22: 523 | G22: 0 | H22: 청주시
B23: 충주의료원 | C23: 1983.5.16 | D23: 심홍방 | E23: 356 | F23: 307 | G23: 49 | H23: 충주시
B24: 충북교통연수원 | C24: 1986.10.24 | D24: 김상수 | E24: =SUM(F24:G24) -> 12 | F24: 12 | H24: 청주시
