Workbook

Sheet (붙임6) 우선순위 선정 집계표_취합
A1: [붙임 6]
A2: 사업별 우선순위 선정 집계표
A4: < 분과> ※ 분과위원회별 50건 이상 제출
P5: (단위 : 백만원)
A6: 연 번 | B6: 사 업 명 | C6: 사업비 | D6: 순위 | E6: 위원별 평가점수 | P6: 비 고
E7: 합계 (1000) | F7: 박□□ | G7: 이○○ | H7: 신△△ | I7: 정○○ | J7: 박□□ | K7: 이○○ | L7: 신△△ | M7: 정○○ | N7: 박□□ | O7: 이○○
A8: 1 | B8: 시각장애인을 위한 신기술 모바일 서비스 | C8: 60 | E8: =SUM(F8:O8) -> 0
A9: 2 | B9: 공공정보자원 클라우드 컴퓨팅 구축 | C9: 50 | E9: =SUM(F9:O9) -> 0
A10: 3 | B10: 충주세계조정선수권대회 경기장 시설 | C10: 621 | E10: =SUM(F10:O10) -> 0
A11: 4 | B11: 유휴지 활력화 | C11: 300 | E11: =SUM(F11:O11) -> 0
A12: 5 | B12: 광역친환경 농업단지 조성 | C12: 200 | E12: =SUM(F12:O12) -> 0
A13: 6 | B13: 자연 테마파크 조성 | C13: 169 | E13: =SUM(F13:O13) -> 0
A14: 7 | B14: 축사시설 현대화 특별지원 | C14: 1249 | E14: =SUM(F14:O14) -> 0
A15: 8 | B15: 웰빙특수미 광역 생산유통단지 조성 | C15: 336 | E15: =SUM(F15:O15) -> 0

Sheet 총 괄
A2: 2022년도 당초예산 우선순위 사업별 예산반영 결과
A4: 총 괄
F5: (단위 : 건, 백만원)
A6: 위원회명 | B6: 요 구 | D6: 반 영 | F6: 비고
B7: 사업수 | C7: 예산액 | D7: 사업수 | E7: 예산액
A8: 계 | B8: =SUM(B9:B14) -> 289 | C8: =SUM(C9:C14) -> 223201 | D8: =SUM(D9:D14) -> 214 | E8: =SUM(E9:E14) -> 170285 | F8: =E8/C8 -> 0.76292221
A9: 일반행정분과 | B9: 24 | C9: =SUM(일반행정!D9:D32) -> 7363 | D9: 19 | E9: =SUM(일반행정!E9:E32) -> 4592 | F9: =E9/C9 -> 0.62365883
A10: 복지여성분과 | B10: 50 | C10: =SUM(복지여성!D9:D58) -> 13318 | D10: 37 | E10: =SUM(복지여성!E9:E58) -> 10439 | F10: =E10/C10 -> 0.7838264
A11: 경제환경분과 | B11: 48 | C11: =SUM(경제환경!D9:D56) -> 34644 | D11: 37 | E11: =SUM(경제환경!E9:E56) -> 19913 | F11: =E11/C11 -> 0.57478929
A12: 농정분과 | B12: 50 | C12: =SUM(농정!D9:D58) -> 34277 | D12: 35 | E12: =SUM(농정!E9:E58) -> 32092 | F12: =E12/C12 -> 0.93625463
A13: 문화체육분과 | B13: 59 | C13: =SUM(문화체육!D9:D67) -> 30931 | D13: 39 | E13: =SUM(문화체육!E9:E67) -> 21831 | F13: =E13/C13 -> 0.70579677
A14: 안전건설분과 | B14: 58 | C14: =SUM(안전건설!D9:D66) -> 102668 | D14: 47 | E14: =SUM(안전건설!E9:E66) -> 81418 | F14: =E14/C14 -> 0.79302217

Sheet 일반행정
A2: 우선순위 사업 반영현황
A4: <일반행정분과>
F5: (단위 : 백만원)
A6: 연번 | B6: 사 업 명 | C6: 순위 | D6: 요구액 | E6: 반영액 | F6: 비 고
A8: 계 | B8: 24 | D8: =SUM(D9:D58) -> 7363 | E8: =SUM(E9:E58) -> 4592
A9: 1 | B9: 출산양육지원금 | C9: 1 | D9: 566 | E9: 566
A10: 2 | B10: 농산물 절도예방 이동형 CCTV 보급·운영 | C10: 2 | D10: 313 | E10: 313
A11: 3 | B11: 여성 1인가구 침입예방 방범시설 설치 | C11: 3 | D11: 150 | E11: 0
A12: 4 | B12: 불법촬영 범죄예방 탐지장비 구입 | C12: 4 | D12: 69 | E12: 69
A13: 5 | B13: 교통사고예방 무인단속장비 설치·운영 | C13: 5 | D13: 498 | E13: 120
A14: 6 | B14: 청년 취업역량강화 사업 | C14: 6 | D14: 194 | E14: 115
A15: 7 | B15: 일‧가정양립(함께육아) 기업문화 조성 프로젝트 | C15: 7 | D15: 50 | E15: 50
A16: 8 | B16: 성장촉진지역 청년근로자 근속지원 | C16: 8 | D16: 606 | E16: 440
A17: 9 | B17: 어린이 교통안전 체험교실 운영 | C17: 9 | D17: 92 | E17: 0
A18: 10 | B18: 노후 웹사이트 클라우드 전환 구축 | C18: 10 | D18: 880 | E18: 0
A19: 11 | B19: 지역공동체 제안 공모사업 | C19: 11 | D19: 28 | E19: 28
A20: 12 | B20: 생명농업 특화지구 육성 | C20: 12 | D20: 2375 | E20: 2499
... A32: 24 | B32: 성인지예산제 운영 | C32: 23 | D32: 17 | E32: 17

Sheet 복지여성
A2: 우선순위 사업 반영현황
A4: <복지여성분과>
F5: (단위 : 백만원)
A6: 연번 | B6: 사 업 명 | C6: 순위 | D6: 요구액 | E6: 반영액 | F6: 비 고
A8: 계 | B8: 50 | D8: =SUM(D9:D66) -> 13318 | E8: =SUM(E9:E66) -> 10439
A9: 1 | B9: 장애인 활동지원 추가지원사업 | C9: 1 | D9: 636 | E9: 636
A10: 2 | B10: 치매환자 돌봄재활 지원 | C10: 2 | D10: 198 | E10: 198
A11: 3 | B11: 충북권 공공어린이 재활의료센터 건립 | C11: 3 | D11: 1010 | E11: 660
A12: 4 | B12: 충청북도노인종합복지관 운영 지원 | C12: 4 | D12: 860 | E12: 828
A13: 5 | B13: 성폭력피해 여성장애인 자립훈련지원 | C13: 5 | D13: 12 | E13: 0
A14: 6 | B14: 9988 행복나누미 | C14: 6 | D14: 1891 | E14: 1887
A15: 7 | B15: 저소득층 간병서비스 지원사업 | C15: 7 | D15: 120 | E15: 120
A16: 8 | B16: 학대피해아동 치유캠프 | C16: 8 | D16: 20 | E16: 20
A17: 9 | B17: 어린이집 CCTV 유지보수 지원 | C17: 9 | D17: 350 | E17: 0
A18: 10 | B18: 지역사회 자살예방 네트워크 구축 | C18: 10 | D18: 18 | E18: 18
A19: 11 | B19: 학대피해노인 등 심리상담 | C19: 11 | D19: 40 | E19: 0
A20: 12 | B20: 여성장애인 친화병원 지정 | C20: 12 | D20: 60 | E20: 60
... A58: 50 | B58: 충북 해외의료 홍보마케팅 지원 | C58: 50 | D58: 30 | E58: 0

Sheet 경제환경
A2: 우선순위 사업 반영현황
A4: <경제환경분과>
F5: (단위 : 백만원)
A6: 연번 | B6: 사 업 명 | C6: 순위 | D6: 요구액 | E6: 반영액 | F6: 비 고
A8: 계 | B8: 48 | D8: =SUM(D9:D64) -> 34644 | E8: =SUM(E9:E64) -> 19913
A9: 1 | B9: 산불진화용 임차헬기 | C9: 1 | D9: 2411 | E9: 2411
A10: 2 | B10: 보건의료검사 | C10: 2 | D10: 390 | E10: 360
A11: 3 | B11: 환경오염도 검사 | C11: 3 | D11: 326 | E11: 322
A12: 4 | B12: 생활편의시설 특별안전점검 플랫폼 구축 | C12: 4 | D12: 20 | E12: 0
A13: 5 | B13: 대기측정망 운영 | C13: 5 | D13: 331 | E13: 325
A14: 6 | B14: 취약계층 일산화탄소 경보기 설치 | C14: 6 | D14: 60 | E14: 0
A15: 7 | B15: 생산적 일손봉사 운영 지원(시군운영) | C15: 7 | D15: 2793 | E15: 2793
A16: 8 | B16: 배출업소 기술지도 | C16: 8 | D16: 56 | E16: 56
A17: 9 | B17: 지방투자기업 보조금 지원 | C17: 9 | D17: 7000 | E17: 3500
A18: 10 | B18: 민간합동 청정대기 환경지킴이 지원 | C18: 10 | D18: 10 | E18: 10
A19: 11 | B19: 대기오염측정소 운영비 지원 | C19: 10 | D19: 319 | E19: 277
A20: 12 | B20: 유수율 제고사업 | C20: 12 | D20: 600 | E20: 0
... A56: 48 | B56: 유전자데이터 분석기반 한우 개량시스템구축 | C56: 48 | D56: 300 | E56: 300

Sheet 농정
A2: 우선순위 사업 반영현황
A4: < 농정분과 >
F5: (단위 : 백만원)
A6: 연번 | B6: 사 업 명 | C6: 순위 | D6: 요구액 | E6: 반영액 | F6: 비 고
A8: 계 | B8: 50 | D8: =SUM(D9:D66) -> 34277 | E8: =SUM(E9:E66) -> 32092
A9: 1 | B9: 양계 전염병 예방사업 | C9: 1 | D9: 97 | E9: 79
A10: 2 | B10: 폐사된 소 처리비용 지원 | C10: 2 | D10: 150 | E10: 105
A11: 3 | B11: 가축 폐사체 처리기 지원사업 | C11: 3 | D11: 113 | E11: 90
A12: 4 | B12: 여성농어업인 행복바우처 사업 | C12: 4 | D12: 1877 | E12: 2076
A13: 5 | B13: 곤충매개성 질병 예방사업 | C13: 5 | D13: 45 | E13: 38
A14: 6 | B14: 구제역 예방접종 강화사업 | C14: 6 | D14: 522 | E14: 522
A15: 7 | B15: 가축분뇨 처리장비 보급 | C15: 7 | D15: 135 | E15: 90
A16: 8 | B16: 양돈 전염병 예방사업 | C16: 8 | D16: 75 | E16: 61
A17: 9 | B17: 가축재해보험 | C17: 9 | D17: 800 | E17: 800
A18: 10 | B18: 농업인 안전보험 가입지원 | C18: 10 | D18: 346 | E18: 330
A19: 11 | B19: 친환경농산물 인증농가 육성 | C19: 11 | D19: 264 | E19: 264
A20: 12 | B20: 과수노력절감 생산장비 지원 | C20: 12 | D20: 450 | E20: 259
... A58: 50 | B58: 농촌체험휴양마을 홍보물 제작 | C58: 50 | D58: 8 | E58: 8

Sheet 문화체육
A2: 우선순위 사업 반영현황
A4: < 문화체육분과>
F5: (단위 : 백만원)
A6: 연번 | B6: 사 업 명 | C6: 순위 | D6: 요구액 | E6: 반영액 | F6: 비 고
A8: 계 | B8: 59 | D8: =SUM(D9:D67) -> 30931 | E8: =SUM(E9:E67) -> 21831
A9: 1 | B9: 다목적광장 및 쉼터조성 | C9: 1 | D9: 300 | E9: 180
A10: 2 | B10: 빈집정비 시범사업 통한 주민공유공간 조성 | C10: 2 | D10: 45 | E10: 0
A11: 3 | B11: 장애인체육진흥사업 | C11: 3 | D11: 2340 | E11: 2180
A12: 4 | B12: 공공시설 안전확보를 위한 안내체계 개선 | C12: 3 | D12: 60 | E12: 0
A13: 5 | B13: 국내 온오프라인 매체 활용 충북 관광 홍보 | C13: 5 | D13: 617 | E13: 502
A14: 6 | B14: 충북문화콘텐츠 온라인플랫폼 구축 운영 | C14: 6 | D14: 800 | E14: 0
A15: 7 | B15: 청년예술가 창작활동 지원 | C15: 6 | D15: 115 | E15: 90
A16: 8 | B16: TV여행 ‘아름다운 충북’ 제작 | C16: 8 | D16: 79 | E16: 79
A17: 9 | B17: 영구임대주택 공동체 의식향상 지원 | C17: 9 | D17: 30 | E17: 0
A18: 10 | B18: 충북관광 SNS채널 운영 | C18: 10 | D18: 100 | E18: 90
A19: 11 | B19: 도 지정축제 육성지원 | C19: 10 | D19: 260 | E19: 130
A20: 12 | B20: 범죄예방 환경디자인 시범사업 | C20: 12 | D20: 60 | E20: 60
... A67: 59 | B67: 중국인유학생 페스티벌 | C67: 59 | D67: 800 | E67: 800

Sheet 안전건설
A2: 우선순위 사업 반영현황
A4: <안전건설분과>
F5: (단위 : 백만원)
A6: 연번 | B6: 사 업 명 | C6: 순위 | D6: 요구액 | E6: 반영액 | F6: 비 고
A8: 계 | B8: 58 | D8: =SUM(D9:D66) -> 102668 | E8: =SUM(E9:E66) -> 81418
A9: 1 | B9: 소화전 신설 | C9: 1 | D9: 750 | E9: 160
A10: 2 | B10: 화재진압 질식소화포 | C10: 2 | D10: 534 | E10: 72
A11: 3 | B11: 119구급대 감염관리실 | C11: 3 | D11: 1210 | E11: 1210
A12: 4 | B12: 119구급대 감염방지 용품 | C12: 4 | D12: 758 | E12: 758
A13: 5 | B13: 재난안전연구센터 운영 | C13: 5 | D13: 330 | E13: 285
A14: 6 | B14: 오지도서 공영버스 구입지원 | C14: 6 | D14: 180 | E14: 100
A15: 7 | B15: 교통사고 예방 및 긴급보수(옥천지소) | C15: 7 | D15: 650 | E15: 550
A16: 8 | B16: 지방하천유지관리사업 | C16: 8 | D16: 8000 | E16: 1550
A17: 9 | B17: 교통사고 예방 및 긴급보수(충주지소) | C17: 9 | D17: 1110 | E17: 430
A18: 10 | B18: 소방드론 임무장비 | C18: 10 | D18: 45 | E18: 45
A19: 11 | B19: 도민안전보험 | C19: 11 | D19: 264 | E19: 264
A20: 12 | B20: 전담의용소방대 현장출동지원 차량 보강 | C20: 12 | D20: 125 | E20: 0
... A66: 58 | B66: 진천 다목적 회의실 증축 | C66: 58 | D66: 828 | E66: 0
