Workbook

Sheet 예산규모
A1: 지역통합재정규모
A3: Ⅰ. 예산규모
E4: (단위:백만원, %)
A5: 구분 | B5: 2023년 당초예산(A) | C5: 2024년 예산(B) | D5: 증감액(B-A) | E5: 비율(B-A)/A
A6: 총 계 | B6: 14325096 | C6: 14287349 | D6: =C6-B6 -> -37747 | E6: =D6/B6*100 -> -0.2635026
A7: 충청북도 | B7: 7774159 | C7: 8018462 | D7: =C7-B7 -> 244303 | E7: =D7/B7*100 -> 3.1425007
A8: 충북교육청 | B8: 5267173 | C8: 4892710 | D8: =C8-B8 -> -374463 | E8: =D8/B8*100 -> -7.1093735
A9: 공사공단 | B9: 512066 | C9: 622950 | D9: =C9-B9 -> 110884 | E9: =D9/B9*100 -> 21.65424
A10: 출연출자기관 | B10: 771698 | C10: 753227 | D10: =C10-B10 -> -18471 | E10: =D10/B10*100 -> -2.3935529

Sheet 회계별
A1: 지역통합재정규모
A3: Ⅱ. 회계별 규모
I4: (단위:백만원, %)
A5: 구분 | B5: 합계 | C5: 구성비(%) | D5: 예산 | H5: 기금
D6: 계 | E6: 일반회계 | F6: 특별회계 | G6: 교육비특별회계 | H6: 지자쳬소관 | I6: 교육청소관
A7: 총 계 | B7: =D7+H7+I7 -> 14287349 | C7: =SUM(C8:C11) -> 100 | D7: =SUM(E7:G7) -> 12123629 | E7: =SUM(E8:E11) -> 7806011 | F7: =SUM(F8:F11) -> 699041 | G7: =SUM(G8:G11) -> 3618577 | H7: =SUM(H8:H11) -> 889587 | I7: =SUM(I8:I11) -> 1274133
A8: 충청북도 | B8: =D8+H8+I8 -> 8018462 | C8: =B8/$B$7*100 -> 56.122812 | D8: =SUM(E8:G8) -> 7128875 | E8: 6429834 | F8: 699041 | G8: 0 | H8: 889587 | I8: 0
A9: 충북교육청 | B9: =D9+H9+I9 -> 4892710 | C9: =B9/$B$7*100 -> 34.245051 | D9: =SUM(E9:G9) -> 3618577 | E9: 0 | F9: 0 | G9: 3618577 | H9: 0 | I9: 1274133
A10: 공사공단 | B10: =D10+H10+I10 -> 622950 | C10: =B10/$B$7*100 -> 4.3601511 | D10: =SUM(E10:G10) -> 622950 | E10: 622950 | F10: 0 | G10: 0 | H10: 0 | I10: 0
A11: 출연출자기관 | B11: =D11+H11+I11 -> 753227 | C11: =B11/$B$7*100 -> 5.2719857 | D11: =SUM(E11:G11) -> 753227 | E11: 753227 | F11: 0 | G11: 0 | H11: 0 | I11: 0

Sheet 전년대비 증감비교
A1: 지역통합재정규모
A3: Ⅲ. 전년대비 증감비교
F4: (단위:백만원, %)
A5: 구분 | C5: 2023년 당초예산(A) | D5: 2024년 예산(B) | E5: 증감액(B-A) | F5: 비율(B-A)/A
A6: 총 계 | C6: 14325096 | D6: =D7+D8+D12+D15+D16 -> 14287349 | E6: =D6-C6 -> -37747 | F6: =E6/C6*100 -> -0.2635026
A7: 일반회계 | C7: 5959658 | D7: =회계별!E8 -> 6429834 | E7: 447701 | F7: =E7/C7*100 -> 7.5121928
A8: 특별회계 | C8: 4425272 | D8: =SUM(D9:D11) -> 4317618 | E8: 594422 | F8: =E8/C8*100 -> 13.43244
B9: 기타특별회계 | C9: 697977 | D9: =회계별!F8 -> 699041 | E9: 49145 | F9: =E9/C9*100 -> 7.041063
B10: 공기업특별회계 | C10: 0 | D10: 0 | E10: 0 | F10: 0
B11: 교육비특별회계 | C11: 3727295 | D11: 3618577 | E11: 545277 | F11: =E11/C11*100 -> 14.629296
A12: 기금 | C12: 2656402 | D12: =SUM(D13:D14) -> 2163720 | E12: 1442142 | F12: =E12/C12*100 -> 54.289298
B13: 일반지자체 기금 | C13: 1116524 | D13: =회계별!H8 -> 889587 | E13: 254347 | F13: =E13/C13*100 -> 22.780254
B14: 교육청 기금 | C14: 1539878 | D14: =회계별!I9 -> 1274133 | E14: 1187795 | F14: =E14/C14*100 -> 77.135656
A15: 공사공단 | C15: 512066 | D15: =회계별!D10 -> 622950 | E15: 17225 | F15: =E15/C15*100 -> 3.3638242
A16: 출연출자기관 | C16: 771698 | D16: =회계별!E11 -> 753227 | E16: 48685 | F16: =E16/C16*100 -> 6.3088151

Sheet 세출성질별 규모
A1: 지역통합재정규모
A3: Ⅳ. 세출성질별 규모
K4: (단위:백만원, %)
A5: 구분 | B5: 합계 | C5: 비중 | D5: 시도, 시군구, 교육청 | J5: 공사공단출연출자기관
D6: 계 | E6: 시도, 시군구 | H6: 교육청 | J6: 공사공단 | K6: 출연출자기관
E7: 일반회계 | F7: 특별회계 | G7: 기금 | H7: 교육비특별회계 | I7: 기금
A8: 합 계 | B8: =SUM(B9:B16) -> 14287349 | C8: =SUM(C9:C16) -> 100 | D8: =SUM(D9:D16) -> 12911172 | E8: =SUM(E9:E16) -> 6429834 | F8: =SUM(F9:F16) -> 699041 | G8: =SUM(G9:G16) -> 889587 | H8: =SUM(H9:H16) -> 3618577 | I8: =SUM(I9:I16) -> 1274133 | ... K8: =SUM(K9:K16) -> 753227
A9: 인건비 | B9: =D9+J9+K9 -> 2438217 | C9: =B9/$B$8*100 -> 17.065566 | D9: =SUM(E9:I9) -> 2308708 | E9: 181984 | F9: 198314 | G9: 0 | H9: 1928410 | I9: 0 | J9: 7676 | K9: 121833
A10: 물건비 | B10: =D10+J10+K10 -> 1167415 | C10: =B10/$B$8*100 -> 8.17097 | D10: =SUM(E10:I10) -> 979768 | E10: 105699 | F10: 43110 | G10: 887 | H10: 819424 | I10: 10648 | J10: 8020 | K10: 179627
A11: 경상이전 | B11: =D11+J11+K11 -> 4135342 | C11: =B11/$B$8*100 -> 28.944082 | D11: =SUM(E11:I11) -> 4048684 | E11: 3514073 | F11: 392744 | G11: 16042 | H11: 125825 | I11: 0 | J11: 18021 | K11: 68637
A12: 자본지출 | B12: =D12+J12+K12 -> 3087559 | C12: =B12/$B$8*100 -> 21.61044 | D12: =SUM(E12:I12) -> 2691471 | E12: 1913678 | F12: 49651 | G12: 11920 | H12: 716122 | I12: 100 | J12: 235785 | K12: 160303
A13: 융자및출자 | B13: =D13+J13+K13 -> 79192 | C13: =B13/$B$8*100 -> 0.55428057 | D13: =SUM(E13:I13) -> 79192 | E13: 0 | F13: 12662 | G13: 66520 | H13: 10 | I13: 0 | J13: 0 | K13: 0
A14: 보전재원 | B14: =D14+J14+K14 -> 1827076 | C14: =B14/$B$8*100 -> 12.788069 | D14: =SUM(E14:I14) -> 1598623 | E14: 0 | F14: 0 | G14: 629828 | H14: 0 | I14: 968795 | J14: 56170 | K14: 172283
A15: 내부거래 | B15: =D15+J15+K15 -> 1138020 | C15: =B15/$B$8*100 -> 7.9652285 | D15: =SUM(E15:I15) -> 1123158 | E15: 657025 | F15: 2507 | G15: 164380 | H15: 4656 | I15: 294590 | J15: 0 | K15: 14862
A16: 예비비및기타 | B16: =D16+J16+K16 -> 414528 | C16: =B16/$B$8*100 -> 2.901364 | D16: =SUM(E16:I16) -> 81568 | E16: 57375 | F16: 53 | G16: 10 | H16: 24130 | J16: 297278 | K16: 35682
